BEGIN:VCALENDAR
VERSION:2.0
CALSCALE:GREGORIAN
PRODID:-//Diputació de Barcelona//DibaCMS//EN
BEGIN:VEVENT
UID:5555
DTSTAMP:20260423T163150
DTSTART:20121120T000000
DTEND:20131120T000000
SUMMARY:L'Ajuntament celebrarà aquesta tarda un ple extraordinari amb diversos punts econòmics
LOCATION:
METHOD:PUBLISH
X-WR-CALNAME:llagosta@llagosta.cat
X-WR-TIMEZONE:Europe/Madrid
DESCRIPTION:L'Ajuntament de la Llagosta celebrarà aquesta tarda, a partir de les set, un ple extraordinari i urgent durant el qual es tractaran diversos punts de l'àrea d'Economia i Hisenda. En concret, durant la sessió s'aprovarà la revisió de preus d'aquest any de l'empresa Urbaser, l'anterior concessionària del servei de recollida d'escombraries i neteja viària.
URI:https://www.llagosta.cat/actualitat/noticies/lajuntament-celebrara-aquesta-tarda-un-ple-extraordinari-amb-diversos-punts-economics.html
CLASS:PUBLIC
END:VEVENT
END:VCALENDAR
