BEGIN:VCALENDAR
VERSION:2.0
CALSCALE:GREGORIAN
PRODID:-//Diputació de Barcelona//DibaCMS//EN
BEGIN:VEVENT
UID:5554
DTSTAMP:20260423T114156
DTSTART:20121120T000000
DTEND:20131110T000000
SUMMARY:El Viejas Glorias empata en un partit marcat per la violència del seu rival, el Canyelles
LOCATION:
METHOD:PUBLISH
X-WR-CALNAME:llagosta@llagosta.cat
X-WR-TIMEZONE:Europe/Madrid
DESCRIPTION:El Club Deportivo Viejas Glorias va empatar dissabte a tres gols a casa contra el Canyelles en un partit marcat per la violència que van fer servir els visitants. Durant la primera part, els llagostencs van disposar de poques ocasions de gol, però van estar més encertats que a la segona.
URI:https://www.llagosta.cat/actualitat/noticies/el-viejas-glorias-empata-en-un-partit-marcat-per-la-violencia-del-seu-rival-el-canyelles.html
CLASS:PUBLIC
END:VEVENT
END:VCALENDAR
