BEGIN:VCALENDAR
VERSION:2.0
CALSCALE:GREGORIAN
PRODID:-//Diputació de Barcelona//DibaCMS//EN
BEGIN:VEVENT
UID:5553
DTSTAMP:20260423T144640
DTSTART:20121119T000000
DTEND:20131119T000000
SUMMARY:ICV-EUiA de la Llagosta van fer ahir el seu primer acte electoral a la Llagosta 
LOCATION:
METHOD:PUBLISH
X-WR-CALNAME:llagosta@llagosta.cat
X-WR-TIMEZONE:Europe/Madrid
DESCRIPTION:La coalició Iniciativa per Catalunya–Esquerra Unida i Alternativa confia a convertir-se en la referència de l'esquerra alternativa a les properes eleccions catalanes del 25 de novembre. Així ho van manifestar ahir Esther López Barceló, diputada d'Izquierda Unida a les Corts Valencianes, i Lorena Vicioso, candidata número 8 d'ICV-EUiA, durant un acte electoral que va tenir lloc al Casal Popular La República.
URI:https://www.llagosta.cat/actualitat/noticies/icv-euia-de-la-llagosta-van-fer-ahir-el-seu-primer-acte-electoral-a-la-llagosta-.html
CLASS:PUBLIC
END:VEVENT
END:VCALENDAR
