BEGIN:VCALENDAR
VERSION:2.0
CALSCALE:GREGORIAN
PRODID:-//Diputació de Barcelona//DibaCMS//EN
BEGIN:VEVENT
UID:5552
DTSTAMP:20260423T113959
DTSTART:20121119T000000
DTEND:20131119T000000
SUMMARY:La caminada del Club Esportiu Fondistes de dissabte va comptar amb 62 participants
LOCATION:
METHOD:PUBLISH
X-WR-CALNAME:llagosta@llagosta.cat
X-WR-TIMEZONE:Europe/Madrid
DESCRIPTION:El Club Esportiu Fondistes de la Llagosta va recaptar dissabte 186 euros per a la Marató de TV3 i un centenar de quilos d'aliments per a la Fundació Banc dels Aliments de Barcelona. Aquestes aportacions solidàries van anar a càrrec de les 62 persones que van participar en la caminada a la Font de la Canaleta, a Sant Fost, que va organitzar l'entitat. 
URI:https://www.llagosta.cat/actualitat/noticies/la-caminada-del-club-esportiu-fondistes-de-dissabte-va-comptar-amb-62-participants.html
CLASS:PUBLIC
END:VEVENT
END:VCALENDAR
