BEGIN:VCALENDAR
VERSION:2.0
CALSCALE:GREGORIAN
PRODID:-//Diputació de Barcelona//DibaCMS//EN
BEGIN:VEVENT
UID:5551
DTSTAMP:20260423T163409
DTSTART:20121119T000000
DTEND:20131119T000000
SUMMARY:La Unión Llagostense guanya 4 a 6 a la pista de la Garriga i es manté en segona posició
LOCATION:
METHOD:PUBLISH
X-WR-CALNAME:llagosta@llagosta.cat
X-WR-TIMEZONE:Europe/Madrid
DESCRIPTION:El Fútbol Sala Unión Llagostense va guanyar la jornada passada per 4 a 6 a la pista de la Garriga. Els llagostencs van ser molt superiors al seu rival, sobretot a la primera part. Al descans, ja guanyaven per 0 a 4.
URI:https://www.llagosta.cat/actualitat/noticies/la-union-llagostense-guanya-4-a-6-a-la-pista-de-la-garriga-i-es-mante-en-segona-posicio.html
CLASS:PUBLIC
END:VEVENT
END:VCALENDAR
