BEGIN:VCALENDAR
VERSION:2.0
CALSCALE:GREGORIAN
PRODID:-//Diputació de Barcelona//DibaCMS//EN
BEGIN:VEVENT
UID:5550
DTSTAMP:20260423T203138
DTSTART:20121116T000000
DTEND:20131116T000000
SUMMARY:El sènior de l'Handbol Club Vallag cau a Calella (33-20) i perd el liderat
LOCATION:
METHOD:PUBLISH
X-WR-CALNAME:llagosta@llagosta.cat
X-WR-TIMEZONE:Europe/Madrid
DESCRIPTION:L'Handbol Club Vallag ha perdut el liderat de la competició després de caure la jornada passada a la pista del Calella per 33 a 20. Els dos equips estaven separarts per només un punt i la balança s'ha decantat ara cap al conjunt del Maresme. Aquest cap de setmana, els llagostencs descansaran.
URI:https://www.llagosta.cat/actualitat/noticies/el-senior-de-lhandbol-club-vallag-cau-a-calella-33-20-i-perd-el-liderat.html
CLASS:PUBLIC
END:VEVENT
END:VCALENDAR
