BEGIN:VCALENDAR
VERSION:2.0
CALSCALE:GREGORIAN
PRODID:-//Diputació de Barcelona//DibaCMS//EN
BEGIN:VEVENT
UID:5549
DTSTAMP:20260423T054307
DTSTART:20121116T000000
DTEND:20131116T000000
SUMMARY:Amics de la Cultura farà diumenge una representació teatral per la Marató de TV3
LOCATION:
METHOD:PUBLISH
X-WR-CALNAME:llagosta@llagosta.cat
X-WR-TIMEZONE:Europe/Madrid
DESCRIPTION:El grup Amics de la Cultura se suma als actes en benefici de la Marató de TV3 amb la representació del sainet Cómo han cambiado las cosas, d'Emilia Murillo. L'obra es podrà veure diumenge a les set de la tarda al Centre Cultural.
URI:https://www.llagosta.cat/actualitat/noticies/amics-de-la-cultura-fara-diumenge-una-representacio-teatral-per-la-marato-de-tv3.html
CLASS:PUBLIC
END:VEVENT
END:VCALENDAR
