BEGIN:VCALENDAR
VERSION:2.0
CALSCALE:GREGORIAN
PRODID:-//Diputació de Barcelona//DibaCMS//EN
BEGIN:VEVENT
UID:5548
DTSTAMP:20260423T134521
DTSTART:20121116T000000
DTEND:20131116T000000
SUMMARY:L'intercanvi de la Casa de Andalucía de demà servirà per recaptar fons per a la Marató TV3
LOCATION:
METHOD:PUBLISH
X-WR-CALNAME:llagosta@llagosta.cat
X-WR-TIMEZONE:Europe/Madrid
DESCRIPTION:La Casa de Andalucía de la Llagosta dedicarà l'intercanvi cultural del mes de novembre a recaptar fons per a la Marató de TV3. L'acte es farà demà, a les vuit del vespre, al Centre Cultural de la plaça de l'alcalde Sisó Pons.
URI:https://www.llagosta.cat/actualitat/noticies/lintercanvi-de-la-casa-de-andalucia-de-dema-servira-per-recaptar-fons-per-a-la-marato-tv3.html
CLASS:PUBLIC
END:VEVENT
END:VCALENDAR
