BEGIN:VCALENDAR
VERSION:2.0
CALSCALE:GREGORIAN
PRODID:-//Diputació de Barcelona//DibaCMS//EN
BEGIN:VEVENT
UID:5547
DTSTAMP:20260423T131928
DTSTART:20121116T000000
DTEND:20131116T000000
SUMMARY:El Joventut Handbol jugarà contra el Ripollet després de derrotar el Balsareny (25-29)
LOCATION:
METHOD:PUBLISH
X-WR-CALNAME:llagosta@llagosta.cat
X-WR-TIMEZONE:Europe/Madrid
DESCRIPTION:El Joventut Handbol La Llagosta rebrà aquest cap de setmana la visita del Ripollet. Els llagostencs continuen liderant en solitari la competició després de guanyar la jornada passada el Balsareny per 25 a 29.
URI:https://www.llagosta.cat/actualitat/noticies/el-joventut-handbol-jugara-contra-el-ripollet-despres-de-derrotar-el-balsareny-25-29.html
CLASS:PUBLIC
END:VEVENT
END:VCALENDAR
