BEGIN:VCALENDAR
VERSION:2.0
CALSCALE:GREGORIAN
PRODID:-//Diputació de Barcelona//DibaCMS//EN
BEGIN:VEVENT
UID:5546
DTSTAMP:20260423T091859
DTSTART:20121116T000000
DTEND:20131116T000000
SUMMARY:L'Ajuntament de la Llagosta sortirà a finals d'any del Consorci Teledigital Mollet
LOCATION:
METHOD:PUBLISH
X-WR-CALNAME:llagosta@llagosta.cat
X-WR-TIMEZONE:Europe/Madrid
DESCRIPTION:L'equip de govern (ICV-EUiA, CiU i CPLL) proposarà al ple municipal de finals de novembre la sortida de l'Ajuntament de la Llagosta del Consorci Teledigital Mollet, que gestiona el canal de televisió digital terrestre Vallès Visió. La proposta es va comunicar a la resta de municipis integrants del consorci durant la reunió del consell plenari de Teledigital Mollet que es va dur a terme el 8 de novembre.
URI:https://www.llagosta.cat/actualitat/noticies/lajuntament-de-la-llagosta-sortira-a-finals-dany-del-consorci-teledigital-mollet.html
CLASS:PUBLIC
END:VEVENT
END:VCALENDAR
