BEGIN:VCALENDAR
VERSION:2.0
CALSCALE:GREGORIAN
PRODID:-//Diputació de Barcelona//DibaCMS//EN
BEGIN:VEVENT
UID:5545
DTSTAMP:20260423T124858
DTSTART:20121116T000000
DTEND:20131116T000000
SUMMARY:El Casal Popular La República acull diumenge un acte electoral d'ICV i EUiA
LOCATION:
METHOD:PUBLISH
X-WR-CALNAME:llagosta@llagosta.cat
X-WR-TIMEZONE:Europe/Madrid
DESCRIPTION:Esther López Barceló, diputada d'Izquierda Unida a les Corts Valencianes, participarà diumenge en un acte de la campanya electoral dels comicis al Parlament de Catalunya que organitzaran Iniciativa i Esquerra Unida de la Llagosta i les joventuts de les respectives organitzacions, Alternativa Jove i Joves d'Esquerra Verda. El míting tindrà lloc a partir de les sis de la tarda al Casal Popular La República. També està prevista la intervenció de la candidata número 8 d'ICV-EUiA, Lorena Vicioso. 
URI:https://www.llagosta.cat/actualitat/noticies/el-casal-popular-la-republica-acull-diumenge-un-acte-electoral-dicv-i-euia.html
CLASS:PUBLIC
END:VEVENT
END:VCALENDAR
