BEGIN:VCALENDAR
VERSION:2.0
CALSCALE:GREGORIAN
PRODID:-//Diputació de Barcelona//DibaCMS//EN
BEGIN:VEVENT
UID:5544
DTSTAMP:20260423T111013
DTSTART:20121116T000000
DTEND:20131116T000000
SUMMARY:El CE Fondistes farà demà una caminada per col·laborar en dues accions solidàries
LOCATION:
METHOD:PUBLISH
X-WR-CALNAME:llagosta@llagosta.cat
X-WR-TIMEZONE:Europe/Madrid
DESCRIPTION:El Club Esportiu Fondistes de la Llagosta organitza demà la caminada a la Font de la Canaleta, a Sant Fost. L'activitat servirà per recaptar diners per a la Marató de TV3 i aliments per a la recapta de la Fundació Banc d'Aliments de Barcelona.
URI:https://www.llagosta.cat/actualitat/noticies/el-ce-fondistes-fara-dema-una-caminada-per-collaborar-en-dues-accions-solidaries.html
CLASS:PUBLIC
END:VEVENT
END:VCALENDAR
