BEGIN:VCALENDAR
VERSION:2.0
CALSCALE:GREGORIAN
PRODID:-//Diputació de Barcelona//DibaCMS//EN
BEGIN:VEVENT
UID:5543
DTSTAMP:20260423T054006
DTSTART:20121115T000000
DTEND:20131115T000000
SUMMARY:A la Llagosta, el seguiment de la vaga general d'ahir va ser força important
LOCATION:
METHOD:PUBLISH
X-WR-CALNAME:llagosta@llagosta.cat
X-WR-TIMEZONE:Europe/Madrid
DESCRIPTION:El seguiment de la vaga ahir a la Llagosta va ser força important. Els carrers de la nostra localitat presentaven una imatge inusual, amb pràcticament la totalitat del comerç tancat, els carrers del polígon amb poc moviment de vehicles i el transport públic amb molts menys usuaris de l'habitual. A l'Ajuntament de la Llagosta, el seguiment de la vaga ha estat del 60%. 
URI:https://www.llagosta.cat/actualitat/noticies/a-la-llagosta-el-seguiment-de-la-vaga-general-dahir-va-ser-forca-important.html
CLASS:PUBLIC
END:VEVENT
END:VCALENDAR
