BEGIN:VCALENDAR
VERSION:2.0
CALSCALE:GREGORIAN
PRODID:-//Diputació de Barcelona//DibaCMS//EN
BEGIN:VEVENT
UID:5542
DTSTAMP:20260423T054101
DTSTART:20121115T000000
DTEND:20131115T000000
SUMMARY:El Partit Popular fa un acte de campanya electoral a la Llagosta
LOCATION:
METHOD:PUBLISH
X-WR-CALNAME:llagosta@llagosta.cat
X-WR-TIMEZONE:Europe/Madrid
DESCRIPTION:María José García Cuevas, número 4 de la candidatura del Partit Popular per Barcelona en aquestes eleccions al Parlament de Catalunya, ha reiterat avui a la Llagosta que la independència de Catalunya és inviable en el nostre marc legal. García, que ha visitat avui el nostre municipi en un acte electoral, ha indicat que CiU enganya els catalans respecte a la independència de Catalunya.
URI:https://www.llagosta.cat/actualitat/noticies/el-partit-popular-fa-un-acte-de-campanya-electoral-a-la-llagosta.html
CLASS:PUBLIC
END:VEVENT
END:VCALENDAR
