BEGIN:VCALENDAR
VERSION:2.0
CALSCALE:GREGORIAN
PRODID:-//Diputació de Barcelona//DibaCMS//EN
BEGIN:VEVENT
UID:5541
DTSTAMP:20260424T014326
DTSTART:20121115T000000
DTEND:20131115T000000
SUMMARY:Acte de protesta contra Bankia de la Plataforma d'Afectats per la Hipoteca de la Llagosta
LOCATION:
METHOD:PUBLISH
X-WR-CALNAME:llagosta@llagosta.cat
X-WR-TIMEZONE:Europe/Madrid
DESCRIPTION:La Plataforma d'Afectats per la Hipoteca de la Llagosta ha portat a terme aquest matí una acció de protesta contra Bankia. Durant l'acte s'ha llegit un manifest en el qual es critica aquesta entitat per la seva política de desallotjaments, entre altres coses.
URI:https://www.llagosta.cat/actualitat/noticies/acte-de-protesta-contra-bankia-de-la-plataforma-dafectats-per-la-hipoteca-de-la-llagosta.html
CLASS:PUBLIC
END:VEVENT
END:VCALENDAR
