BEGIN:VCALENDAR
VERSION:2.0
CALSCALE:GREGORIAN
PRODID:-//Diputació de Barcelona//DibaCMS//EN
BEGIN:VEVENT
UID:5540
DTSTAMP:20260423T145008
DTSTART:20121115T000000
DTEND:20131115T000000
SUMMARY:L'atur a la Llagosta va pujar en 58 persones al mes d'octubre
LOCATION:
METHOD:PUBLISH
X-WR-CALNAME:llagosta@llagosta.cat
X-WR-TIMEZONE:Europe/Madrid
DESCRIPTION:L'atur es va incrementar el mes d'octubre a la Llagosta en 58 persones. El mes passat hi havia registrats a l'Oficina de Treball de la Generalitat 1.560 veïns de la nostra localitat. La taxa d'atur es va situar en el 21,36 %, segons les dades facilitades per l'Observatori del Consell Comarcal.
URI:https://www.llagosta.cat/actualitat/noticies/latur-a-la-llagosta-va-pujar-en-58-persones-al-mes-doctubre.html
CLASS:PUBLIC
END:VEVENT
END:VCALENDAR
