BEGIN:VCALENDAR
VERSION:2.0
CALSCALE:GREGORIAN
PRODID:-//Diputació de Barcelona//DibaCMS//EN
BEGIN:VEVENT
UID:5539
DTSTAMP:20260424T073355
DTSTART:20121115T000000
DTEND:20131115T000000
SUMMARY:El sènior de l'EBC perd a casa contra el Lliçà d'Amunt B per 71 a 86
LOCATION:
METHOD:PUBLISH
X-WR-CALNAME:llagosta@llagosta.cat
X-WR-TIMEZONE:Europe/Madrid
DESCRIPTION:El sènior de l'Esportiu Bàsquet Club de la Llagosta va patir la jornada passada una nova derrota. Els de la nostra localitat van perdre per 71 a 86 contra el Lliçà d'Amunt B. Aquest cap de setmana, l'EBC la Llagosta visitarà la pista del Martorelles. 
URI:https://www.llagosta.cat/actualitat/noticies/el-senior-de-lebc-perd-a-casa-contra-el-llica-damunt-b-per-71-a-86.html
CLASS:PUBLIC
END:VEVENT
END:VCALENDAR
