BEGIN:VCALENDAR
VERSION:2.0
CALSCALE:GREGORIAN
PRODID:-//Diputació de Barcelona//DibaCMS//EN
BEGIN:VEVENT
UID:5538
DTSTAMP:20260423T053725
DTSTART:20121115T000000
DTEND:20131115T000000
SUMMARY:Okinawa Team i Veus de Dona organitza una jornada de defensa personal extrema per a dones
LOCATION:
METHOD:PUBLISH
X-WR-CALNAME:llagosta@llagosta.cat
X-WR-TIMEZONE:Europe/Madrid
DESCRIPTION:El gimnàs Okinawa Team de la Llagosta va realitzar dimarts la primera Jornada de defensa personal extrema femenina conjuntament amb l'agrupació Veus de Dona de la nostra localitat. Aquesta ha estat la primera d'una sèrie de jornades que Okinawa Team realitzarà de forma gratuïta per a dones. 
URI:https://www.llagosta.cat/actualitat/noticies/okinawa-team-i-veus-de-dona-organitza-una-jornada-de-defensa-personal-extrema-per-a-dones.html
CLASS:PUBLIC
END:VEVENT
END:VCALENDAR
