BEGIN:VCALENDAR
VERSION:2.0
CALSCALE:GREGORIAN
PRODID:-//Diputació de Barcelona//DibaCMS//EN
BEGIN:VEVENT
UID:5537
DTSTAMP:20260422T214548
DTSTART:20121115T000000
DTEND:20131115T000000
SUMMARY:Estela García, segona en la primera jornada de la Lliga catalana de figures de categoria infantil
LOCATION:
METHOD:PUBLISH
X-WR-CALNAME:llagosta@llagosta.cat
X-WR-TIMEZONE:Europe/Madrid
DESCRIPTION:La veïna de la Llagosta Estela García es va classificar en segona posició en la primera jornada de la Lliga catalana de figures de categoria infantil de natació sincronitzada. La competició va tenir lloc el 27 d'octubre i va comptar amb la participació de 84 nedadores. García continua arrossegant la lesió que va patir el mes de juliol.
URI:https://www.llagosta.cat/actualitat/noticies/estela-garcia-segona-en-la-primera-jornada-de-la-lliga-catalana-de-figures-de-categoria-infantil.html
CLASS:PUBLIC
END:VEVENT
END:VCALENDAR
