BEGIN:VCALENDAR
VERSION:2.0
CALSCALE:GREGORIAN
PRODID:-//Diputació de Barcelona//DibaCMS//EN
BEGIN:VEVENT
UID:5536
DTSTAMP:20260424T020812
DTSTART:20121113T000000
DTEND:20131113T000000
SUMMARY:Primers èxits de la temporada per al Club de Judo del Gimnàs La Llagosta
LOCATION:
METHOD:PUBLISH
X-WR-CALNAME:llagosta@llagosta.cat
X-WR-TIMEZONE:Europe/Madrid
DESCRIPTION:El Club de Judo del Gimnàs La Llagosta ha començat la temporada amb diverses medalles en categories júnior, cadet i infantil. A més, dos judokes llagostencs ja s'han situat com a primers del rànquing català.
URI:https://www.llagosta.cat/actualitat/noticies/primers-exits-de-la-temporada-per-al-club-de-judo-del-gimnas-la-llagosta.html
CLASS:PUBLIC
END:VEVENT
END:VCALENDAR
