BEGIN:VCALENDAR
VERSION:2.0
CALSCALE:GREGORIAN
PRODID:-//Diputació de Barcelona//DibaCMS//EN
BEGIN:VEVENT
UID:5535
DTSTAMP:20260422T234247
DTSTART:20121113T000000
DTEND:20131113T000000
SUMMARY:Demà dimecres, convocada jornada de vaga general pels sindicats i diversos col·lectius
LOCATION:
METHOD:PUBLISH
X-WR-CALNAME:llagosta@llagosta.cat
X-WR-TIMEZONE:Europe/Madrid
DESCRIPTION:Tota la ciutadania està cridada a secundar la vaga general convocada pels sindicats i diversos col·lectius per a demà dimecres 14 de novembre. Els sindicats denuncien les mesures aplicades pels diferents governs en àmbits com l'educació o la sanitat, que se sumen a la greu situació laboral que viu una bona part de la població. La vaga començarà aquesta nit a les deu, coincidint amb el torn de nit de les fàbriques. 
URI:https://www.llagosta.cat/actualitat/noticies/dema-dimecres-convocada-jornada-de-vaga-general-pels-sindicats-i-diversos-collectius.html
CLASS:PUBLIC
END:VEVENT
END:VCALENDAR
