BEGIN:VCALENDAR
VERSION:2.0
CALSCALE:GREGORIAN
PRODID:-//Diputació de Barcelona//DibaCMS//EN
BEGIN:VEVENT
UID:5534
DTSTAMP:20260423T013350
DTSTART:20121113T000000
DTEND:20131113T000000
SUMMARY:El Consell Municipal de l'Esport Escolar va fer divendres la presentació de la temporada
LOCATION:
METHOD:PUBLISH
X-WR-CALNAME:llagosta@llagosta.cat
X-WR-TIMEZONE:Europe/Madrid
DESCRIPTION:El Complex Esportiu Municipal El Turó va acollir divendres la presentació dels equips del Consell Municipal de l’Esport Escolar i el Lleure de la Llagosta (CMEELL) d'aquesta temporada. El CMEELL té actualment un grup d'iniciació esportiva, un altre d'esports d'integració, tres equips de bàsquet, set d'handbol i un de futbol sala. Uns 110 infants prenen part en alguna d'aquestes modalitats esportives.
URI:https://www.llagosta.cat/actualitat/noticies/el-consell-municipal-de-lesport-escolar-va-fer-divendres-la-presentacio-de-la-temporada.html
CLASS:PUBLIC
END:VEVENT
END:VCALENDAR
