BEGIN:VCALENDAR
VERSION:2.0
CALSCALE:GREGORIAN
PRODID:-//Diputació de Barcelona//DibaCMS//EN
BEGIN:VEVENT
UID:5533
DTSTAMP:20260422T234149
DTSTART:20121113T000000
DTEND:20131113T000000
SUMMARY:La Llagosta i Santa Perpètua reclamen el desviament de la línia de trens R3
LOCATION:
METHOD:PUBLISH
X-WR-CALNAME:llagosta@llagosta.cat
X-WR-TIMEZONE:Europe/Madrid
DESCRIPTION:L'alcalde de La Llagosta, Alberto López, i l'alcaldessa de Santa Perpètua de Mogoda, Isabel Garcia, es van reunir ahir amb representants del Ministeri de Foment i de l'empresa pública ADIF a Catalunya per reclamar el desviament de la línia de trens R3. A la reunió també van assistir membres de la plataforma veïnal que demana el desviament de la R3 al seu pas per ambdós municipis.
URI:https://www.llagosta.cat/actualitat/noticies/la-llagosta-i-santa-perpetua-reclamen-el-desviament-de-la-linia-de-trens-r3.html
CLASS:PUBLIC
END:VEVENT
END:VCALENDAR
