BEGIN:VCALENDAR
VERSION:2.0
CALSCALE:GREGORIAN
PRODID:-//Diputació de Barcelona//DibaCMS//EN
BEGIN:VEVENT
UID:5532
DTSTAMP:20260423T201525
DTSTART:20121113T000000
DTEND:20131113T000000
SUMMARY:La Concòrdia goleja (1-7) el cuer, el Sant Cugat, i es manté en la primera posició
LOCATION:
METHOD:PUBLISH
X-WR-CALNAME:llagosta@llagosta.cat
X-WR-TIMEZONE:Europe/Madrid
DESCRIPTION:El Club Deportivo La Concòrdia va guanyar la jornada passada per un clar 1 a 7 a la pista del cuer, el Sant Cugat, i segueix com a líder de la Divisió d'Honor Catalana. Les de la Llagosta no van tenir cap problema per sumar una nova victòria i van dominar el partit des del primer moment.
URI:https://www.llagosta.cat/actualitat/noticies/la-concordia-goleja-1-7-el-cuer-el-sant-cugat-i-es-mante-en-la-primera-posicio.html
CLASS:PUBLIC
END:VEVENT
END:VCALENDAR
