BEGIN:VCALENDAR
VERSION:2.0
CALSCALE:GREGORIAN
PRODID:-//Diputació de Barcelona//DibaCMS//EN
BEGIN:VEVENT
UID:5531
DTSTAMP:20260422T214417
DTSTART:20121112T000000
DTEND:20131112T000000
SUMMARY:L'Asociación Rociera va recollir 400 euros per a les activitats d'Aspayfacos
LOCATION:
METHOD:PUBLISH
X-WR-CALNAME:llagosta@llagosta.cat
X-WR-TIMEZONE:Europe/Madrid
DESCRIPTION:La seu de l'Asociación Rociera Andaluza de la Llagosta va registrar dissabte una bona afluència de públic durant el novè festival en benefici d'Aspayfacos. Durant l'acte es van recollir fons per a l'entitat que aplega a persones discapacitades de la nostra localitat i per a la Marató de TV3.
URI:https://www.llagosta.cat/actualitat/noticies/lasociacion-rociera-va-recollir-400-euros-per-a-les-activitats-daspayfacos.html
CLASS:PUBLIC
END:VEVENT
END:VCALENDAR
