BEGIN:VCALENDAR
VERSION:2.0
CALSCALE:GREGORIAN
PRODID:-//Diputació de Barcelona//DibaCMS//EN
BEGIN:VEVENT
UID:5530
DTSTAMP:20260422T213839
DTSTART:20121112T000000
DTEND:20131112T000000
SUMMARY:Demà, comença un taller organitzat per l'Escola de Pares i Mares de la Llagosta
LOCATION:
METHOD:PUBLISH
X-WR-CALNAME:llagosta@llagosta.cat
X-WR-TIMEZONE:Europe/Madrid
DESCRIPTION:L'Escola de Pares i Mares de la Llagosta inicia demà una nova proposta. Es tracta d'un taller que es presenta sota el títol d'Emocions, relacions i joc. Eines per ajudar a créixer els nostres fills i filles.
URI:https://www.llagosta.cat/actualitat/noticies/dema-comenca-un-taller-organitzat-per-lescola-de-pares-i-mares-de-la-llagosta.html
CLASS:PUBLIC
END:VEVENT
END:VCALENDAR
