BEGIN:VCALENDAR
VERSION:2.0
CALSCALE:GREGORIAN
PRODID:-//Diputació de Barcelona//DibaCMS//EN
BEGIN:VEVENT
UID:5529
DTSTAMP:20260422T214337
DTSTART:20121112T000000
DTEND:20131112T000000
SUMMARY:La Llagosta es va quedar a les fosques divendres per una avaria en una línia de mitja tensió
LOCATION:
METHOD:PUBLISH
X-WR-CALNAME:llagosta@llagosta.cat
X-WR-TIMEZONE:Europe/Madrid
DESCRIPTION:Uns 4.200 abonats de la Llagosta de la companyia Fecsa-Endesa es van veure afectats divendres a la nit per un tall del subministrament elèctric. L'avaria va començar a un quart d'onze de la nit i fins a un quart d'una no es va restaurar totalment l'electricitat.
URI:https://www.llagosta.cat/actualitat/noticies/la-llagosta-es-va-quedar-a-les-fosques-divendres-per-una-avaria-en-una-linia-de-mitja-tensio.html
CLASS:PUBLIC
END:VEVENT
END:VCALENDAR
