BEGIN:VCALENDAR
VERSION:2.0
CALSCALE:GREGORIAN
PRODID:-//Diputació de Barcelona//DibaCMS//EN
BEGIN:VEVENT
UID:5528
DTSTAMP:20260423T110925
DTSTART:20121112T000000
DTEND:20131112T000000
SUMMARY:El Fútbol Sala Unión Llagostense derrota el Vilafant i és segon a tres punts del líder
LOCATION:
METHOD:PUBLISH
X-WR-CALNAME:llagosta@llagosta.cat
X-WR-TIMEZONE:Europe/Madrid
DESCRIPTION:El Fútbol Sala Unión Llagostense va guanyar el cap de setmana passat el Vilafant per 6 a 3 i va trencar una ratxa de dues derrotes seguides. Els visitants van ser els primers a marcar. La Unión Llagostense va fer tres gols, dos de David Soria i un de José Ángel, i, al descans, dominava per 3 a 1.
URI:https://www.llagosta.cat/actualitat/noticies/el-futbol-sala-union-llagostense-derrota-el-vilafant-i-es-segon-a-tres-punts-del-lider.html
CLASS:PUBLIC
END:VEVENT
END:VCALENDAR
