BEGIN:VCALENDAR
VERSION:2.0
CALSCALE:GREGORIAN
PRODID:-//Diputació de Barcelona//DibaCMS//EN
BEGIN:VEVENT
UID:5527
DTSTAMP:20260423T053544
DTSTART:20121112T000000
DTEND:20131112T000000
SUMMARY:El Viejas Glorias perd al camp del Pomar i encaixa la segona derrota seguida
LOCATION:
METHOD:PUBLISH
X-WR-CALNAME:llagosta@llagosta.cat
X-WR-TIMEZONE:Europe/Madrid
DESCRIPTION:El Club Deportivo Viejas Glorias va caure la jornada passada per 4 a 3 al camp del Pomar i va encaixar la segona derrota seguida. Els llagostencs van dominar a la primera part, però després el partit se'ls va complicar i van perdre.
URI:https://www.llagosta.cat/actualitat/noticies/el-viejas-glorias-perd-al-camp-del-pomar-i-encaixa-la-segona-derrota-seguida.html
CLASS:PUBLIC
END:VEVENT
END:VCALENDAR
