BEGIN:VCALENDAR
VERSION:2.0
CALSCALE:GREGORIAN
PRODID:-//Diputació de Barcelona//DibaCMS//EN
BEGIN:VEVENT
UID:5526
DTSTAMP:20260423T072834
DTSTART:20121109T000000
DTEND:20131109T000000
SUMMARY:Alborada organitza demà una obra de teatre per recollir diners per a la Marató de TV3
LOCATION:
METHOD:PUBLISH
X-WR-CALNAME:llagosta@llagosta.cat
X-WR-TIMEZONE:Europe/Madrid
DESCRIPTION:L'Agrupación Cultural Galega Alborada portarà demà al Centre Cultural al grup de teatre O sofá do camión, que posarà en escena Tarde de sainetes. Aquesta activitat forma part dels actes programats a la Llagosta per recaptar fons per a la Marató de TV3.
URI:https://www.llagosta.cat/actualitat/noticies/alborada-organitza-dema-una-obra-de-teatre-per-recollir-diners-per-a-la-marato-de-tv3.html
CLASS:PUBLIC
END:VEVENT
END:VCALENDAR
