BEGIN:VCALENDAR
VERSION:2.0
CALSCALE:GREGORIAN
PRODID:-//Diputació de Barcelona//DibaCMS//EN
BEGIN:VEVENT
UID:5525
DTSTAMP:20260423T223739
DTSTART:20121109T000000
DTEND:20131109T000000
SUMMARY:Felip Puig espera que l'electoral doni suport a les aspiracions nacionalistes de CiU
LOCATION:
METHOD:PUBLISH
X-WR-CALNAME:llagosta@llagosta.cat
X-WR-TIMEZONE:Europe/Madrid
DESCRIPTION:Convergència i Unió planteja aquests comicis més enllà de l'elecció d'un nou parlament. CiU vol que les votacions del 25 de novembre es converteixin en un plebiscit per donar suport a les seves aspiracions nacionalistes. Així ho va indicar ahir el conseller d'Interior, Felip Puig, durant l'acte de precampanya que va organitzar Convergència a la Llagosta.
URI:https://www.llagosta.cat/actualitat/noticies/felip-puig-espera-que-lelectoral-doni-suport-a-les-aspiracions-nacionalistes-de-ciu.html
CLASS:PUBLIC
END:VEVENT
END:VCALENDAR
