BEGIN:VCALENDAR
VERSION:2.0
CALSCALE:GREGORIAN
PRODID:-//Diputació de Barcelona//DibaCMS//EN
BEGIN:VEVENT
UID:5524
DTSTAMP:20260423T201331
DTSTART:20121109T000000
DTEND:20131109T000000
SUMMARY:Comença la campanya electoral dels comicis al Parlament de Catalunya
LOCATION:
METHOD:PUBLISH
X-WR-CALNAME:llagosta@llagosta.cat
X-WR-TIMEZONE:Europe/Madrid
DESCRIPTION:La campanya electoral de cara als comicis al Parlament de Catalunya del 25 de novembre ja està en marxa. A la nostra localitat, es faran diversos actes, alguns encara per confirmar, i els partits sortiran també al carrer per explicar el seu programa electoral en taules informatives. 
URI:https://www.llagosta.cat/actualitat/noticies/comenca-la-campanya-electoral-dels-comicis-al-parlament-de-catalunya.html
CLASS:PUBLIC
END:VEVENT
END:VCALENDAR
