BEGIN:VCALENDAR
VERSION:2.0
CALSCALE:GREGORIAN
PRODID:-//Diputació de Barcelona//DibaCMS//EN
BEGIN:VEVENT
UID:5523
DTSTAMP:20260422T214448
DTSTART:20121109T000000
DTEND:20131109T000000
SUMMARY:La Llagosta Club de Ball farà demà una festa per celebrar el seu cinquè aniversari
LOCATION:
METHOD:PUBLISH
X-WR-CALNAME:llagosta@llagosta.cat
X-WR-TIMEZONE:Europe/Madrid
DESCRIPTION:La Llagosta Club de Ball celebrarà demà el seu cinquè aniversari amb una festa que tindrà lloc al Centre Cultural a partir de les deu del vespre. L'acte és obert a tota la població i l'entrada és gratuïta. La festa, que durarà vàries hores, comptarà amb música en directe. La Llagosta Club de Ball compta actualment amb 80 socis. 
URI:https://www.llagosta.cat/actualitat/noticies/la-llagosta-club-de-ball-fara-dema-una-festa-per-celebrar-el-seu-cinque-aniversari.html
CLASS:PUBLIC
END:VEVENT
END:VCALENDAR
