BEGIN:VCALENDAR
VERSION:2.0
CALSCALE:GREGORIAN
PRODID:-//Diputació de Barcelona//DibaCMS//EN
BEGIN:VEVENT
UID:5522
DTSTAMP:20260423T113837
DTSTART:20121109T000000
DTEND:20131109T000000
SUMMARY:El sènior de l'EBC cau contra el CN Caldes B perjudicat per l'arbitratge en el tram final del partit
LOCATION:
METHOD:PUBLISH
X-WR-CALNAME:llagosta@llagosta.cat
X-WR-TIMEZONE:Europe/Madrid
DESCRIPTION:El sènior de l'Esportiu Bàsquet Club de la Llagosta va patir la jornada passada la quarta derrota de la temporada en perdre a la pista del Club Natació Caldes B per 76 a 69. El partit va ser molt igualat, però, al final, l'arbitratge va perjudicar clarament a l'equip entrenat per Pablo Romero.
URI:https://www.llagosta.cat/actualitat/noticies/el-senior-de-lebc-cau-contra-el-cn-caldes-b-perjudicat-per-larbitratge-en-el-tram-final-del-partit.html
CLASS:PUBLIC
END:VEVENT
END:VCALENDAR
