BEGIN:VCALENDAR
VERSION:2.0
CALSCALE:GREGORIAN
PRODID:-//Diputació de Barcelona//DibaCMS//EN
BEGIN:VEVENT
UID:5521
DTSTAMP:20260423T220358
DTSTART:20121108T000000
DTEND:20131108T000000
SUMMARY:Empleats públics i AMPA es manifesten per la Llagosta contra les retallades
LOCATION:
METHOD:PUBLISH
X-WR-CALNAME:llagosta@llagosta.cat
X-WR-TIMEZONE:Europe/Madrid
DESCRIPTION:Més d'un centenar de persones s'han manifestat avui a la Llagosta en defensa dels serveis públics i contra les retallades aprovades pel govern central i la Generalitat.
URI:https://www.llagosta.cat/actualitat/noticies/empleats-publics-i-ampa-es-manifesten-per-la-llagosta-contra-les-retallades.html
CLASS:PUBLIC
END:VEVENT
END:VCALENDAR
