BEGIN:VCALENDAR
VERSION:2.0
CALSCALE:GREGORIAN
PRODID:-//Diputació de Barcelona//DibaCMS//EN
BEGIN:VEVENT
UID:5520
DTSTAMP:20260423T145055
DTSTART:20121108T000000
DTEND:20131108T000000
SUMMARY:Demà, presentació al Turó dels equips del Consell Municipal de l'Esport Escolar
LOCATION:
METHOD:PUBLISH
X-WR-CALNAME:llagosta@llagosta.cat
X-WR-TIMEZONE:Europe/Madrid
DESCRIPTION:El Consell Municipal de l’Esport Escolar i el Lleure de la Llagosta (CMEELL) presentarà demà els equips d'aquesta temporada. L'acte es farà al Complex Esportiu Municipal El Turó a partir de les sis de la tarda. 
URI:https://www.llagosta.cat/actualitat/noticies/dema-presentacio-al-turo-dels-equips-del-consell-municipal-de-lesport-escolar.html
CLASS:PUBLIC
END:VEVENT
END:VCALENDAR
