BEGIN:VCALENDAR
VERSION:2.0
CALSCALE:GREGORIAN
PRODID:-//Diputació de Barcelona//DibaCMS//EN
BEGIN:VEVENT
UID:5519
DTSTAMP:20260423T130716
DTSTART:20121108T000000
DTEND:20131108T000000
SUMMARY:L'Asociación Rociera farà dissabte al seu local el festival a benefici d'Aspayfacos
LOCATION:
METHOD:PUBLISH
X-WR-CALNAME:llagosta@llagosta.cat
X-WR-TIMEZONE:Europe/Madrid
DESCRIPTION:L’Asociación Rociera Andaluza de la Llagosta organitzarà dissabte el novè festival en benefici d’Aspayfacos. L'acte es farà aquest any a la seu de l'entitat, al número 6 del carrer Girona. El principal objectiu d’aquesta activitat és recaptar fons per a l’entitat que agrupa a persones discapacitades de la nostra localitat. L'acte també servirà per donar suport a la Marató de TV3.
URI:https://www.llagosta.cat/actualitat/noticies/lasociacion-rociera-fara-dissabte-al-seu-local-el-festival-a-benefici-daspayfacos.html
CLASS:PUBLIC
END:VEVENT
END:VCALENDAR
