BEGIN:VCALENDAR
VERSION:2.0
CALSCALE:GREGORIAN
PRODID:-//Diputació de Barcelona//DibaCMS//EN
BEGIN:VEVENT
UID:5518
DTSTAMP:20260423T112248
DTSTART:20121108T000000
DTEND:20131108T000000
SUMMARY:El Joventut Handbol La Llagosta derrota el Cerdanyola i es col·loca líder en solitari
LOCATION:
METHOD:PUBLISH
X-WR-CALNAME:llagosta@llagosta.cat
X-WR-TIMEZONE:Europe/Madrid
DESCRIPTION:El Joventut Handbol La Llagosta és l'únic equip del grup A de la Tercera Catalana que és manté invicte. Els de la nostra localitat van vèncer la jornada passada el Cerdanyola, segon classificat, per 37 a 25 i, ara, són líders en solitari.
URI:https://www.llagosta.cat/actualitat/noticies/el-joventut-handbol-la-llagosta-derrota-el-cerdanyola-i-es-colloca-lider-en-solitari.html
CLASS:PUBLIC
END:VEVENT
END:VCALENDAR
