BEGIN:VCALENDAR
VERSION:2.0
CALSCALE:GREGORIAN
PRODID:-//Diputació de Barcelona//DibaCMS//EN
BEGIN:VEVENT
UID:5517
DTSTAMP:20260424T035337
DTSTART:20121108T000000
DTEND:20131108T000000
SUMMARY:La Policia Local de la Llagosta recupera un cotxe que havia estat robat a Granollers
LOCATION:
METHOD:PUBLISH
X-WR-CALNAME:llagosta@llagosta.cat
X-WR-TIMEZONE:Europe/Madrid
DESCRIPTION:La Policia Local de la Llagosta ha recuperat un vehicle, model Volkswagen Golf, que havia estat sostret el 19 d'octubre a Granollers. Els agents van sospitar del cotxe, que portava diversos dies estacionat al carrer de Jaume Balmes, i ahir van comprovar que es tractava d'un vehicle robat. Posteriorment, es van posar en contacte amb el propietari. 
URI:https://www.llagosta.cat/actualitat/noticies/la-policia-local-de-la-llagosta-recupera-un-cotxe-que-havia-estat-robat-a-granollers.html
CLASS:PUBLIC
END:VEVENT
END:VCALENDAR
