BEGIN:VCALENDAR
VERSION:2.0
CALSCALE:GREGORIAN
PRODID:-//Diputació de Barcelona//DibaCMS//EN
BEGIN:VEVENT
UID:5516
DTSTAMP:20260423T145131
DTSTART:20121108T000000
DTEND:20131108T000000
SUMMARY:El conseller Felip Puig participa avui a la Llagosta en un acte amb motiu de les eleccions
LOCATION:
METHOD:PUBLISH
X-WR-CALNAME:llagosta@llagosta.cat
X-WR-TIMEZONE:Europe/Madrid
DESCRIPTION:El conseller d'Interior, Felip Puig, participarà aquest vespre en una trobada amb militants i simpatitzants de Convergència i Unió de la Llagosta. En concret, Puig assistirà a un sopar a partir de les 20.45 hores en un restaurant de la nostra localitat. Aquest acte servirà per tal que CiU de la Llagosta faci l'inici de la campanya electoral de cara als comicis al Parlament de Catalunya del proper 25 de novembre. 
URI:https://www.llagosta.cat/actualitat/noticies/el-conseller-felip-puig-participa-avui-a-la-llagosta-en-un-acte-amb-motiu-de-les-eleccions.html
CLASS:PUBLIC
END:VEVENT
END:VCALENDAR
