BEGIN:VCALENDAR
VERSION:2.0
CALSCALE:GREGORIAN
PRODID:-//Diputació de Barcelona//DibaCMS//EN
BEGIN:VEVENT
UID:5515
DTSTAMP:20260423T164522
DTSTART:20121107T000000
DTEND:20131107T000000
SUMMARY:El Consistori reprèn el programa Enfeina't adreçat a joves aturats de 16 a 30 anys
LOCATION:
METHOD:PUBLISH
X-WR-CALNAME:llagosta@llagosta.cat
X-WR-TIMEZONE:Europe/Madrid
DESCRIPTION:L'Ajuntament de la Llagosta ha reprès el programa Enfeina't, un projecte adreçat a joves de 16 a 30 anys que pretén proporcionar-los eines per cercar feina i introduir-los en les noves tecnologies. En aquests moments, s'ha posat en marxa una segona fase per fer un seguiment amb els joves que van participar a l'inici del projecte el mes de gener.
URI:https://www.llagosta.cat/actualitat/noticies/el-consistori-repren-el-programa-enfeinat-adrecat-a-joves-aturats-de-16-a-30-anys.html
CLASS:PUBLIC
END:VEVENT
END:VCALENDAR
