BEGIN:VCALENDAR
VERSION:2.0
CALSCALE:GREGORIAN
PRODID:-//Diputació de Barcelona//DibaCMS//EN
BEGIN:VEVENT
UID:5514
DTSTAMP:20260423T130451
DTSTART:20121107T000000
DTEND:20131107T000000
SUMMARY:El Vallag guanya el Valldoreix (27-23) i recupera provisionalment la primera posició
LOCATION:
METHOD:PUBLISH
X-WR-CALNAME:llagosta@llagosta.cat
X-WR-TIMEZONE:Europe/Madrid
DESCRIPTION:L'Handbol Club Vallag de la Llagosta va vèncer la jornada passada el Valldoreix per 27 a 23. Els de la nostra localitat han recuperat el liderat del grup B de la Segona Catalana. El proper cap de setmana, els llagostencs s'enfrontaran al Calella.
URI:https://www.llagosta.cat/actualitat/noticies/el-vallag-guanya-el-valldoreix-27-23-i-recupera-provisionalment-la-primera-posicio.html
CLASS:PUBLIC
END:VEVENT
END:VCALENDAR
