BEGIN:VCALENDAR
VERSION:2.0
CALSCALE:GREGORIAN
PRODID:-//Diputació de Barcelona//DibaCMS//EN
BEGIN:VEVENT
UID:5513
DTSTAMP:20260423T073231
DTSTART:20121107T000000
DTEND:20131107T000000
SUMMARY:El CD La Concòrdia defensa el liderat a la pista del darrer classificat, el Sant Cugat
LOCATION:
METHOD:PUBLISH
X-WR-CALNAME:llagosta@llagosta.cat
X-WR-TIMEZONE:Europe/Madrid
DESCRIPTION:El Club Deportivo La Concòrdia torna a la competició el proper cap de setmana després de gaudir d'una jornada de descans. El conjunt llagostenc es desplaçarà a la pista del Sant Cugat.
URI:https://www.llagosta.cat/actualitat/noticies/el-cd-la-concordia-defensa-el-liderat-a-la-pista-del-darrer-classificat-el-sant-cugat.html
CLASS:PUBLIC
END:VEVENT
END:VCALENDAR
