BEGIN:VCALENDAR
VERSION:2.0
CALSCALE:GREGORIAN
PRODID:-//Diputació de Barcelona//DibaCMS//EN
BEGIN:VEVENT
UID:5511
DTSTAMP:20260423T164448
DTSTART:20121106T000000
DTEND:20131106T000000
SUMMARY:El Viejas Glorias perd amb l'Águilas i trenca una ratxa de tres victòries seguides
LOCATION:
METHOD:PUBLISH
X-WR-CALNAME:llagosta@llagosta.cat
X-WR-TIMEZONE:Europe/Madrid
DESCRIPTION:El Club Deportivo Viejas Glorias va perdre dissabte per 1 a 3 contra l'Águilas i va veure com es trencava la seva ratxa de tres victòries seguides. El partit va començar amb clar domini local, però, els visitants van aprofitar dues accions puntuals per situar-se amb un 0 a 2 al marcador.
URI:https://www.llagosta.cat/actualitat/noticies/el-viejas-glorias-perd-amb-laguilas-i-trenca-una-ratxa-de-tres-victories-seguides.html
CLASS:PUBLIC
END:VEVENT
END:VCALENDAR
