BEGIN:VCALENDAR
VERSION:2.0
CALSCALE:GREGORIAN
PRODID:-//Diputació de Barcelona//DibaCMS//EN
BEGIN:VEVENT
UID:5510
DTSTAMP:20260423T093644
DTSTART:20121106T000000
DTEND:20131106T000000
SUMMARY:Firma d'un conveni entre el Consell Municipal de l'Esport Escolar i l'empresa RedSport
LOCATION:
METHOD:PUBLISH
X-WR-CALNAME:llagosta@llagosta.cat
X-WR-TIMEZONE:Europe/Madrid
DESCRIPTION:El Consell Municipal de l’Esport Escolar i el Lleure de la Llagosta (CMEELL) ha signat un acord de col·laboració amb l'empresa local RedSport per equipar els infants de les escoles esportives. RedSport aportarà uns 4.200 euros.
URI:https://www.llagosta.cat/actualitat/noticies/firma-dun-conveni-entre-el-consell-municipal-de-lesport-escolar-i-lempresa-redsport.html
CLASS:PUBLIC
END:VEVENT
END:VCALENDAR
