BEGIN:VCALENDAR
VERSION:2.0
CALSCALE:GREGORIAN
PRODID:-//Diputació de Barcelona//DibaCMS//EN
BEGIN:VEVENT
UID:5509
DTSTAMP:20260423T131130
DTSTART:20121105T000000
DTEND:20131105T000000
SUMMARY:Segona derrota seguida del primer equip del Fútbol Sala Unión Llagostense
LOCATION:
METHOD:PUBLISH
X-WR-CALNAME:llagosta@llagosta.cat
X-WR-TIMEZONE:Europe/Madrid
DESCRIPTION:El Fútbol Sala Unión Llagostense va perdre dissabte el segon partit de la temporada. Els llagostencs van enfrontar-se al Teià i van acabant perdent al darrer minut del partit d'un gol, 2 a 3.
URI:https://www.llagosta.cat/actualitat/noticies/segona-derrota-seguida-del-primer-equip-del-futbol-sala-union-llagostense.html
CLASS:PUBLIC
END:VEVENT
END:VCALENDAR
