BEGIN:VCALENDAR
VERSION:2.0
CALSCALE:GREGORIAN
PRODID:-//Diputació de Barcelona//DibaCMS//EN
BEGIN:VEVENT
UID:5508
DTSTAMP:20260423T145952
DTSTART:20121105T000000
DTEND:20131105T000000
SUMMARY:ICV i EUiA van organitzar ahir un homenatge a Gloria Fuertes al Centre Cultural
LOCATION:
METHOD:PUBLISH
X-WR-CALNAME:llagosta@llagosta.cat
X-WR-TIMEZONE:Europe/Madrid
DESCRIPTION:Un centenar de persones van assistir ahir a l'homenatge a la poetessa Gloria Fuertes organitzat per Iniciativa per Catalunya Verds i Esquerra Unida i Alternativa a la Llagosta. L'acte va tenir lloc al Centre Cultural i va comptar amb la col·laboració d'entitats i veïnes de la nostra localitat. 
URI:https://www.llagosta.cat/actualitat/noticies/icv-i-euia-van-organitzar-ahir-un-homenatge-a-gloria-fuertes-al-centre-cultural.html
CLASS:PUBLIC
END:VEVENT
END:VCALENDAR
