BEGIN:VCALENDAR
VERSION:2.0
CALSCALE:GREGORIAN
PRODID:-//Diputació de Barcelona//DibaCMS//EN
BEGIN:VEVENT
UID:5507
DTSTAMP:20260423T170338
DTSTART:20121105T000000
DTEND:20131105T000000
SUMMARY:SERSA recull les escombraries i fa la neteja viària a la Llagosta des de l'1 de novembre
LOCATION:
METHOD:PUBLISH
X-WR-CALNAME:llagosta@llagosta.cat
X-WR-TIMEZONE:Europe/Madrid
DESCRIPTION:Des de l'1 de novembre, el servei de neteja viària i la recollida d'escombraries a la Llagosta va a càrrec de l'empresa SERSA. L'entrada d'aquesta nova concessionària suposa la renovació dels vehicles i, d'aquí a unes setmanes, dels contenidors de rebuig. 
URI:https://www.llagosta.cat/actualitat/noticies/sersa-recull-les-escombraries-i-fa-la-neteja-viaria-a-la-llagosta-des-de-l1-de-novembre.html
CLASS:PUBLIC
END:VEVENT
END:VCALENDAR
