BEGIN:VCALENDAR
VERSION:2.0
CALSCALE:GREGORIAN
PRODID:-//Diputació de Barcelona//DibaCMS//EN
BEGIN:VEVENT
UID:5506
DTSTAMP:20260423T150052
DTSTART:20121031T000000
DTEND:20131031T000000
SUMMARY:El cementiri tindrà un horari especial durant aquests dies i un servei de bus gratuït
LOCATION:
METHOD:PUBLISH
X-WR-CALNAME:llagosta@llagosta.cat
X-WR-TIMEZONE:Europe/Madrid
DESCRIPTION:Amb motiu de la festivitat de Tots Sants i la dels Difunts, el cementiri de la Llagosta obre aquests dies en un horari especial. A més, l'Ajuntament tornarà a establir un servei de bus gratuït.
URI:https://www.llagosta.cat/actualitat/noticies/el-cementiri-tindra-un-horari-especial-durant-aquests-dies-i-un-servei-de-bus-gratuit.html
CLASS:PUBLIC
END:VEVENT
END:VCALENDAR
