BEGIN:VCALENDAR
VERSION:2.0
CALSCALE:GREGORIAN
PRODID:-//Diputació de Barcelona//DibaCMS//EN
BEGIN:VEVENT
UID:5505
DTSTAMP:20260423T092620
DTSTART:20121031T000000
DTEND:20131031T000000
SUMMARY:L'Associació Música Viva organitza dissabte el primer November Fest
LOCATION:
METHOD:PUBLISH
X-WR-CALNAME:llagosta@llagosta.cat
X-WR-TIMEZONE:Europe/Madrid
DESCRIPTION:L'Associació Música Viva de la Llagosta organitza dissabte una sessió de deejays que comptarà amb l'actuació de tres joves de la nostra localitat. L'acte es presenta sota el nom de November Fest i es farà al Centre Cultural.
URI:https://www.llagosta.cat/actualitat/noticies/lassociacio-musica-viva-organitza-dissabte-el-primer-november-fest.html
CLASS:PUBLIC
END:VEVENT
END:VCALENDAR
